{
 "currentVersion": 11.3,
 "cimVersion": "3.3.0",
 "serviceDescription": "Quad Name: Oceanside | Map Scale: 1:24,000 | Published: 1997 | Stock #: TCA1697 | MRC #: o33117b4 | Projection: UTM Zone 11, NAD83 | Contour Interval: 20 feet *** \nQuad Name: San Luis Rey | Map Scale: 1:24,000 | Published: 1997 | Stock #: TCA2165 | MRC #: o33117b3 | Projection: UTM Zone 11, NAD83 | Contour Interval: 20 feet *** \nQuad Name: San Marcos | Map Scale: 1:24,000 | Published: 1996 | Stock #: TCA2166 | MRC #: o33117b2 | Projection: UTM Zone 11, NAD83 | Contour Interval: 20 feet ***\nQuad Name: Las Pulgas Canyon | Map Scale: 1:24,000 | Published: 1975 | Stock #: TCA1294 | MRC #: o33117c4 | Projection: UTM Zone 11, NAD27 | Contour Interval: 20 feet *** \nQuad Name: Morro Hill | Map Scale: 1:24,000 | Published: 1991 | Stock #: TCA1576 | MRC #: o33117c3 | Projection: UTM Zone 11, NAD27 | Contour Interval: 20 feet *** \nQuad Name: Bonsall | Map Scale: 1:24,000 | Published: 1975 | Stock #: TCA0224 | MRC #: o33117c2 | Projection: UTM Zone 11, NAD27 | Contour Interval: 20 feet",
 "mapName": "USA_Topo_Tiled",
 "description": "Quad Name: Oceanside | Map Scale: 1:24,000 | Published: 1997 | Stock #: TCA1697 | MRC #: o33117b4 | Projection: UTM Zone 11, NAD83 | Contour Interval: 20 feet *** \nQuad Name: San Luis Rey | Map Scale: 1:24,000 | Published: 1997 | Stock #: TCA2165 | MRC #: o33117b3 | Projection: UTM Zone 11, NAD83 | Contour Interval: 20 feet *** \nQuad Name: San Marcos | Map Scale: 1:24,000 | Published: 1996 | Stock #: TCA2166 | MRC #: o33117b2 | Projection: UTM Zone 11, NAD83 | Contour Interval: 20 feet ***\nQuad Name: Las Pulgas Canyon | Map Scale: 1:24,000 | Published: 1975 | Stock #: TCA1294 | MRC #: o33117c4 | Projection: UTM Zone 11, NAD27 | Contour Interval: 20 feet *** \nQuad Name: Morro Hill | Map Scale: 1:24,000 | Published: 1991 | Stock #: TCA1576 | MRC #: o33117c3 | Projection: UTM Zone 11, NAD27 | Contour Interval: 20 feet *** \nQuad Name: Bonsall | Map Scale: 1:24,000 | Published: 1975 | Stock #: TCA0224 | MRC #: o33117c2 | Projection: UTM Zone 11, NAD27 | Contour Interval: 20 feet",
 "copyrightText": "USGS",
 "supportsDynamicLayers": true,
 "layers": [
  {
   "id": 0,
   "name": "CITY BOUNDARY Ortho",
   "parentLayerId": -1,
   "defaultVisibility": true,
   "subLayerIds": null,
   "minScale": 0,
   "maxScale": 0,
   "type": "Feature Layer",
   "geometryType": "esriGeometryPolygon",
   "supportsDynamicLegends": true
  },
  {
   "id": 1,
   "name": "USA Topo Maps Quads",
   "parentLayerId": -1,
   "defaultVisibility": true,
   "subLayerIds": [
    2,
    3,
    4,
    5,
    6,
    7
   ],
   "minScale": 0,
   "maxScale": 0,
   "type": "Group Layer",
   "supportsDynamicLegends": false
  },
  {
   "id": 2,
   "name": "o33117b2.tif",
   "parentLayerId": 1,
   "defaultVisibility": true,
   "subLayerIds": null,
   "minScale": 0,
   "maxScale": 0,
   "type": "Raster Layer",
   "supportsDynamicLegends": true
  },
  {
   "id": 3,
   "name": "o33117b3.tif",
   "parentLayerId": 1,
   "defaultVisibility": true,
   "subLayerIds": null,
   "minScale": 0,
   "maxScale": 0,
   "type": "Raster Layer",
   "supportsDynamicLegends": true
  },
  {
   "id": 4,
   "name": "o33117b4.tif",
   "parentLayerId": 1,
   "defaultVisibility": true,
   "subLayerIds": null,
   "minScale": 0,
   "maxScale": 0,
   "type": "Raster Layer",
   "supportsDynamicLegends": true
  },
  {
   "id": 5,
   "name": "o33117c2.tif",
   "parentLayerId": 1,
   "defaultVisibility": true,
   "subLayerIds": null,
   "minScale": 0,
   "maxScale": 0,
   "type": "Raster Layer",
   "supportsDynamicLegends": true
  },
  {
   "id": 6,
   "name": "o33117c3.tif",
   "parentLayerId": 1,
   "defaultVisibility": true,
   "subLayerIds": null,
   "minScale": 0,
   "maxScale": 0,
   "type": "Raster Layer",
   "supportsDynamicLegends": true
  },
  {
   "id": 7,
   "name": "o33117c4.tif",
   "parentLayerId": 1,
   "defaultVisibility": true,
   "subLayerIds": null,
   "minScale": 0,
   "maxScale": 0,
   "type": "Raster Layer",
   "supportsDynamicLegends": true
  }
 ],
 "tables": [],
 "spatialReference": {
  "wkid": 102646,
  "latestWkid": 2230,
  "xyTolerance": 0.003280833333333333,
  "zTolerance": 2,
  "mTolerance": 2,
  "falseX": -118608900,
  "falseY": -91259500,
  "xyUnits": 3.597970630767777E7,
  "falseZ": 0,
  "zUnits": 1,
  "falseM": -100000,
  "mUnits": 10000
 },
 "singleFusedMapCache": true,
 "tileInfo": {
  "rows": 256,
  "cols": 256,
  "dpi": 96,
  "format": "MIXED",
  "compressionQuality": 75,
  "origin": {
   "x": -118608900,
   "y": 1.5908159999999997E8
  },
  "spatialReference": {
   "wkid": 102646,
   "latestWkid": 2230,
   "xyTolerance": 0.003280833333333333,
   "zTolerance": 2,
   "mTolerance": 2,
   "falseX": -118608900,
   "falseY": -91259500,
   "xyUnits": 3.597970630767777E7,
   "falseZ": 0,
   "zUnits": 1,
   "falseM": 0,
   "mUnits": 1
  },
  "lods": [
   {
    "level": 0,
    "resolution": 217.01388888888889,
    "scale": 250000
   },
   {
    "level": 1,
    "resolution": 108.50694444444444,
    "scale": 125000
   },
   {
    "level": 2,
    "resolution": 55.55555555555555,
    "scale": 64000
   },
   {
    "level": 3,
    "resolution": 27.777777777777775,
    "scale": 32000
   },
   {
    "level": 4,
    "resolution": 13.888888888888888,
    "scale": 16000
   },
   {
    "level": 5,
    "resolution": 6.944444444444444,
    "scale": 8000
   },
   {
    "level": 6,
    "resolution": 3.472222222222222,
    "scale": 4000
   },
   {
    "level": 7,
    "resolution": 1.736111111111111,
    "scale": 2000
   },
   {
    "level": 8,
    "resolution": 0.8680555555555555,
    "scale": 1000
   },
   {
    "level": 9,
    "resolution": 0.43402777777777773,
    "scale": 500
   },
   {
    "level": 10,
    "resolution": 0.21701388888888887,
    "scale": 250
   }
  ]
 },
 "storageInfo": {
  "storageFormat": "esriMapCacheStorageModeCompactV2",
  "packetSize": 128
 },
 "initialExtent": {
  "xmin": 6220143.406985247,
  "ymin": 2012041.7477625327,
  "xmax": 6226956.906320809,
  "ymax": 2017204.4553975237,
  "spatialReference": {
   "wkid": 102646,
   "latestWkid": 2230,
   "xyTolerance": 0.003280833333333333,
   "zTolerance": 2,
   "mTolerance": 2,
   "falseX": -118608900,
   "falseY": -91259500,
   "xyUnits": 3.597970630767777E7,
   "falseZ": 0,
   "zUnits": 1,
   "falseM": -100000,
   "mUnits": 10000
  }
 },
 "fullExtent": {
  "xmin": 6150763.73632811,
  "ymin": 1780970.8203125,
  "xmax": 6613437.000651032,
  "ymax": 2129759.9993489534,
  "spatialReference": {
   "wkid": 102646,
   "latestWkid": 2230,
   "xyTolerance": 0.003280833333333333,
   "zTolerance": 2,
   "mTolerance": 2,
   "falseX": -118608900,
   "falseY": -91259500,
   "xyUnits": 3.597970630767777E7,
   "falseZ": 0,
   "zUnits": 1,
   "falseM": -100000,
   "mUnits": 10000
  }
 },
 "datesInUnknownTimezone": false,
 "minScale": 250000,
 "maxScale": 1000,
 "minLOD": 0,
 "maxLOD": 8,
 "units": "esriFeet",
 "supportedImageFormatTypes": "PNG32,PNG24,PNG,JPG,DIB,TIFF,EMF,PS,PDF,GIF,SVG,SVGZ,BMP",
 "documentInfo": {
  "Title": "USA Topo Maps",
  "Author": "",
  "Comments": "Quad Name: Oceanside | Map Scale: 1:24,000 | Published: 1997 | Stock #: TCA1697 | MRC #: o33117b4 | Projection: UTM Zone 11, NAD83 | Contour Interval: 20 feet *** \nQuad Name: San Luis Rey | Map Scale: 1:24,000 | Published: 1997 | Stock #: TCA2165 | MRC #: o33117b3 | Projection: UTM Zone 11, NAD83 | Contour Interval: 20 feet *** \nQuad Name: San Marcos | Map Scale: 1:24,000 | Published: 1996 | Stock #: TCA2166 | MRC #: o33117b2 | Projection: UTM Zone 11, NAD83 | Contour Interval: 20 feet ***\nQuad Name: Las Pulgas Canyon | Map Scale: 1:24,000 | Published: 1975 | Stock #: TCA1294 | MRC #: o33117c4 | Projection: UTM Zone 11, NAD27 | Contour Interval: 20 feet *** \nQuad Name: Morro Hill | Map Scale: 1:24,000 | Published: 1991 | Stock #: TCA1576 | MRC #: o33117c3 | Projection: UTM Zone 11, NAD27 | Contour Interval: 20 feet *** \nQuad Name: Bonsall | Map Scale: 1:24,000 | Published: 1975 | Stock #: TCA0224 | MRC #: o33117c2 | Projection: UTM Zone 11, NAD27 | Contour Interval: 20 feet",
  "Subject": "Orthophoto 2009, DMI\nNAD_1983_StatePlane_California_VI_FIPS_0406_Feet\nWKID: 2230 Authority: EPSGcity of oceanside basemap",
  "Category": "",
  "Version": "3.3.0",
  "AntialiasingMode": "Fast",
  "TextAntialiasingMode": "Force",
  "Keywords": "orthophoto ortho aerial 2009 oceanside"
 },
 "supportsQueryDomains": true,
 "capabilities": "Map,Query,Data",
 "supportedQueryFormats": "JSON, geoJSON, PBF",
 "exportTilesAllowed": false,
 "referenceScale": 0.0,
 "supportsDatumTransformation": true,
 "floorAwareMapProperties": {
  "defaultFloorFilterSettings": {
   "isEnabled": false
  }
 },
 "archivingInfo": {
  "supportsHistoricMoment": false
 },
 "supportsClipping": true,
 "supportsSpatialFilter": true,
 "supportsTimeRelation": true,
 "supportsQueryDataElements": true,
 "mapUnits": {
  "uwkid": 9003
 },
 "maxRecordCount": 2000,
 "maxImageHeight": 4096,
 "maxImageWidth": 4096,
 "supportedExtensions": "",
 "serviceItemId": "c63fd5dbf41b4ed2bea8bfdec2944fac"
}
